BEGIN:VCALENDAR
VERSION:2.0
PRODID:-//eventon.com NONSGML v1.0//EN
CALSCALE:GREGORIAN
METHOD:PUBLISH
BEGIN:VEVENT
UID:69e7780abe74e
DTSTAMP:20260421T131346Z
DTSTART:20220415T063000Z
DTEND:20220415T070000Z
LOCATION:
SUMMARY:19.30 Vesperdienst
DESCRIPTION:19.30 Vesperdienst\nhttps://www.emmauskerk-amersfoort.nl/events
 /19-30-vesperdienst-3/
URL:https://www.emmauskerk-amersfoort.nl/events/19-30-vesperdienst-3/
END:VEVENT
END:VCALENDAR