BEGIN:VCALENDAR
VERSION:2.0
PRODID:-//eventon.com NONSGML v1.0//EN
CALSCALE:GREGORIAN
METHOD:PUBLISH
BEGIN:VEVENT
UID:69e73d8f8aa21
DTSTAMP:20260421T090415Z
DTSTART:20220413T063000Z
DTEND:20220413T070000Z
LOCATION:
SUMMARY:19.30 Vesperdienst
DESCRIPTION:19.30 Vesperdienst\nhttps://www.emmauskerk-amersfoort.nl/events
 /19-30-vesperdienst/
URL:https://www.emmauskerk-amersfoort.nl/events/19-30-vesperdienst/
END:VEVENT
END:VCALENDAR