BEGIN:VCALENDAR
VERSION:2.0
PRODID:-//eventon.com NONSGML v1.0//EN
CALSCALE:GREGORIAN
METHOD:PUBLISH
BEGIN:VEVENT
UID:69e73a2811bc3
DTSTAMP:20260421T084944Z
DTSTART:20211212T204500Z
DTEND:20211212T220000Z
LOCATION:
SUMMARY:9.45 uur Zondagsdienst en: Swing!
DESCRIPTION:9.45 uur Zondagsdienst en: Swing!\nhttps://www.emmauskerk-amers
 foort.nl/events/10-00-uur-zondagsdienst-87/
URL:https://www.emmauskerk-amersfoort.nl/events/10-00-uur-zondagsdienst-87/
END:VEVENT
END:VCALENDAR