BEGIN:VCALENDAR
VERSION:2.0
PRODID:-//eventon.com NONSGML v1.0//EN
CALSCALE:GREGORIAN
METHOD:PUBLISH
BEGIN:VEVENT
UID:69e7387d20f4f
DTSTAMP:20260421T084237Z
DTSTART:20211107T210000Z
DTEND:20211107T220000Z
LOCATION:
SUMMARY:10.00 uur Zondagsdienst  en Swing!
DESCRIPTION:10.00 uur Zondagsdienst en Swing!\nhttps://www.emmauskerk-amers
 foort.nl/events/10-00-uur-zondagsdienst-82/
URL:https://www.emmauskerk-amersfoort.nl/events/10-00-uur-zondagsdienst-82/
END:VEVENT
END:VCALENDAR