BEGIN:VCALENDAR
VERSION:2.0
PRODID:-//eventon.com NONSGML v1.0//EN
CALSCALE:GREGORIAN
METHOD:PUBLISH
BEGIN:VEVENT
UID:69e73cb02b5da
DTSTAMP:20260421T090032Z
DTSTART:20210620T210000Z
DTEND:20210620T220000Z
LOCATION:
SUMMARY:10.00 uur Zondagsdienst
DESCRIPTION:Joke de Bruijn zal bevestigd worden als diaken en Sierk de Brui
 n zal herbevestigd worden als ouderling voor het pastoraat.\nhttps://www.em
 mauskerk-amersfoort.nl/events/10-00-uur-zondagsdienst-30/
URL:https://www.emmauskerk-amersfoort.nl/events/10-00-uur-zondagsdienst-30/
END:VEVENT
END:VCALENDAR