BEGIN:VCALENDAR
VERSION:2.0
PRODID:-//eventon.com NONSGML v1.0//EN
CALSCALE:GREGORIAN
METHOD:PUBLISH
BEGIN:VEVENT
UID:69e4d28843cb7
DTSTAMP:20260419T130304Z
DTSTART:20210606T210000Z
DTEND:20210606T220000Z
LOCATION:
SUMMARY:10.00 uur Zondagsdienst
DESCRIPTION:10.00 uur Zondagsdienst\nhttps://www.emmauskerk-amersfoort.nl/e
 vents/10-00-uur-zondagsdienst-28/
URL:https://www.emmauskerk-amersfoort.nl/events/10-00-uur-zondagsdienst-28/
END:VEVENT
END:VCALENDAR