BEGIN:VCALENDAR
VERSION:2.0
PRODID:-//eventon.com NONSGML v1.0//EN
CALSCALE:GREGORIAN
METHOD:PUBLISH
BEGIN:VEVENT
UID:69e738d677800
DTSTAMP:20260421T084406Z
DTSTART:20210523T210000Z
DTEND:20210523T220000Z
LOCATION:
SUMMARY:10.00 uur Zondagsdienst: Pinksteren
DESCRIPTION:10.00 uur Zondagsdienst: Pinksteren\nhttps://www.emmauskerk-ame
 rsfoort.nl/events/10-00-uur-zondagsdienst-pinksteren-2/
URL:https://www.emmauskerk-amersfoort.nl/events/10-00-uur-zondagsdienst-pinksteren-2/
END:VEVENT
END:VCALENDAR