BEGIN:VCALENDAR
VERSION:2.0
PRODID:-//eventon.com NONSGML v1.0//EN
CALSCALE:GREGORIAN
METHOD:PUBLISH
BEGIN:VEVENT
UID:69e739abd1451
DTSTAMP:20260421T084739Z
DTSTART:20210516T210000Z
DTEND:20210516T220000Z
LOCATION:
SUMMARY:10.00 uur Zondagsdienst
DESCRIPTION:10.00 uur Zondagsdienst\nhttps://www.emmauskerk-amersfoort.nl/e
 vents/10-00-uur-zondagsdienst-26/
URL:https://www.emmauskerk-amersfoort.nl/events/10-00-uur-zondagsdienst-26/
END:VEVENT
END:VCALENDAR