BEGIN:VCALENDAR
VERSION:2.0
PRODID:-//eventon.com NONSGML v1.0//EN
CALSCALE:GREGORIAN
METHOD:PUBLISH
BEGIN:VEVENT
UID:69e764d42c3d9
DTSTAMP:20260421T115148Z
DTSTART:20210513T210000Z
DTEND:20210513T220000Z
LOCATION:
SUMMARY:10.00 uur.   Hemelvaartsdag
DESCRIPTION:10.00 uur. Hemelvaartsdag\nhttps://www.emmauskerk-amersfoort.nl
 /events/10-00-uur-hemelvaartsdag/
URL:https://www.emmauskerk-amersfoort.nl/events/10-00-uur-hemelvaartsdag/
END:VEVENT
END:VCALENDAR