BEGIN:VCALENDAR
VERSION:2.0
PRODID:-//eventon.com NONSGML v1.0//EN
CALSCALE:GREGORIAN
METHOD:PUBLISH
BEGIN:VEVENT
UID:69e737bd1f5e9
DTSTAMP:20260421T083925Z
DTSTART:20210425T210000Z
DTEND:20210425T220000Z
LOCATION:
SUMMARY:10.00 uur Zondagsdienst
DESCRIPTION:10.00 uur Zondagsdienst\nhttps://www.emmauskerk-amersfoort.nl/e
 vents/10-00-uur-zondagsdienst-23/
URL:https://www.emmauskerk-amersfoort.nl/events/10-00-uur-zondagsdienst-23/
END:VEVENT
END:VCALENDAR