BEGIN:VCALENDAR
VERSION:2.0
PRODID:-//eventon.com NONSGML v1.0//EN
CALSCALE:GREGORIAN
METHOD:PUBLISH
BEGIN:VEVENT
UID:69e73834480f4
DTSTAMP:20260421T084124Z
DTSTART:20210418T210000Z
DTEND:20210418T220000Z
LOCATION:
SUMMARY:10.00 uur Zondagsdienst
DESCRIPTION:10.00 uur Zondagsdienst\nhttps://www.emmauskerk-amersfoort.nl/e
 vents/10-00-uur-zondagsdienst-22/
URL:https://www.emmauskerk-amersfoort.nl/events/10-00-uur-zondagsdienst-22/
END:VEVENT
END:VCALENDAR