BEGIN:VCALENDAR
VERSION:2.0
PRODID:-//eventon.com NONSGML v1.0//EN
CALSCALE:GREGORIAN
METHOD:PUBLISH
BEGIN:VEVENT
UID:69e75136bdfb1
DTSTAMP:20260421T102806Z
DTSTART:20210402T063000Z
DTEND:20210402T070000Z
LOCATION:
SUMMARY:19.30 uur: Witte donderdag:Vesper
DESCRIPTION:19.30 uur: Witte donderdag:Vesper\nhttps://www.emmauskerk-amers
 foort.nl/events/19-30-uur-vesper-2/
URL:https://www.emmauskerk-amersfoort.nl/events/19-30-uur-vesper-2/
END:VEVENT
END:VCALENDAR