BEGIN:VCALENDAR
VERSION:2.0
PRODID:-//eventon.com NONSGML v1.0//EN
CALSCALE:GREGORIAN
METHOD:PUBLISH
BEGIN:VEVENT
UID:69e5e38d294a2
DTSTAMP:20260420T082757Z
DTSTART:20210110T210000Z
DTEND:20210110T220000Z
LOCATION:
SUMMARY:10.00 uur Zondagsdienst : alleen online!
DESCRIPTION:10.00 uur Zondagsdienst : alleen online!\nhttps://www.emmausker
 k-amersfoort.nl/events/10-00-uur-zondagsdienst-10/
URL:https://www.emmauskerk-amersfoort.nl/events/10-00-uur-zondagsdienst-10/
END:VEVENT
END:VCALENDAR