BEGIN:VCALENDAR
VERSION:2.0
PRODID:-//eventon.com NONSGML v1.0//EN
CALSCALE:GREGORIAN
METHOD:PUBLISH
BEGIN:VEVENT
UID:69e7393854bb4
DTSTAMP:20260421T084544Z
DTSTART:20201225T080000Z
DTEND:20201225T090000Z
LOCATION:
SUMMARY:21.00 uur Kerstnachtdienst: alleen online!
DESCRIPTION:21.00 uur Kerstnachtdienst: alleen online!\nhttps://www.emmausk
 erk-amersfoort.nl/events/21-00-kerstnachtdienst/
URL:https://www.emmauskerk-amersfoort.nl/events/21-00-kerstnachtdienst/
END:VEVENT
END:VCALENDAR