BEGIN:VCALENDAR
VERSION:2.0
PRODID:-//eventon.com NONSGML v1.0//EN
CALSCALE:GREGORIAN
METHOD:PUBLISH
BEGIN:VEVENT
UID:69e73ab4efe42
DTSTAMP:20260421T085204Z
DTSTART:20201213T100000Z
DTEND:20201213T110000Z
LOCATION:
SUMMARY:10.00 uur 3e Adventzondag
DESCRIPTION:10.00 uur 3e Adventzondag\nhttps://www.emmauskerk-amersfoort.nl
 /events/10-00-uur-3e-adventzondag/
URL:https://www.emmauskerk-amersfoort.nl/events/10-00-uur-3e-adventzondag/
END:VEVENT
END:VCALENDAR