BEGIN:VCALENDAR
VERSION:2.0
PRODID:-//eventon.com NONSGML v1.0//EN
CALSCALE:GREGORIAN
METHOD:PUBLISH
BEGIN:VEVENT
UID:69e7525e3072a
DTSTAMP:20260421T103302Z
DTSTART:20200906T100000Z
DTEND:20200906T110000Z
LOCATION:
SUMMARY:10.00 uur Zondagsdienst
DESCRIPTION:10.00 uur Zondagsdienst\nhttps://www.emmauskerk-amersfoort.nl/e
 vents/10-00-uur-zondagsdienst-63/
URL:https://www.emmauskerk-amersfoort.nl/events/10-00-uur-zondagsdienst-63/
END:VEVENT
END:VCALENDAR